BEGIN:VCALENDAR
VERSION:2.0
PRODID:-//Salsa in Bonn e.V. - ECPv6.15.20//NONSGML v1.0//EN
CALSCALE:GREGORIAN
METHOD:PUBLISH
X-ORIGINAL-URL:https://www.salsainbonn.de
X-WR-CALDESC:Veranstaltungen für Salsa in Bonn e.V.
REFRESH-INTERVAL;VALUE=DURATION:PT1H
X-Robots-Tag:noindex
X-PUBLISHED-TTL:PT1H
BEGIN:VTIMEZONE
TZID:Europe/Berlin
BEGIN:DAYLIGHT
TZOFFSETFROM:+0100
TZOFFSETTO:+0200
TZNAME:CEST
DTSTART:20250330T010000
END:DAYLIGHT
BEGIN:STANDARD
TZOFFSETFROM:+0200
TZOFFSETTO:+0100
TZNAME:CET
DTSTART:20251026T010000
END:STANDARD
BEGIN:DAYLIGHT
TZOFFSETFROM:+0100
TZOFFSETTO:+0200
TZNAME:CEST
DTSTART:20260329T010000
END:DAYLIGHT
BEGIN:STANDARD
TZOFFSETFROM:+0200
TZOFFSETTO:+0100
TZNAME:CET
DTSTART:20261025T010000
END:STANDARD
BEGIN:DAYLIGHT
TZOFFSETFROM:+0100
TZOFFSETTO:+0200
TZNAME:CEST
DTSTART:20270328T010000
END:DAYLIGHT
BEGIN:STANDARD
TZOFFSETFROM:+0200
TZOFFSETTO:+0100
TZNAME:CET
DTSTART:20271031T010000
END:STANDARD
END:VTIMEZONE
BEGIN:VEVENT
DTSTART;TZID=Europe/Berlin:20260228T190000
DTEND;TZID=Europe/Berlin:20260301T030000
DTSTAMP:20260421T194833
CREATED:20260227T194046Z
LAST-MODIFIED:20260227T194932Z
UID:2108-1772305200-1772334000@www.salsainbonn.de
SUMMARY:Mundo Caribeno - Special Edition
DESCRIPTION:Mundo Caribeno – Location: Sion im Carré\nFür weitere Info´s hier Klicken!
URL:https://www.salsainbonn.de/event/mundo-caribeno-special-edition/
END:VEVENT
BEGIN:VEVENT
DTSTART;TZID=Europe/Berlin:20260228T220000
DTEND;TZID=Europe/Berlin:20260301T020000
DTSTAMP:20260421T194833
CREATED:20260227T193107Z
LAST-MODIFIED:20260227T193449Z
UID:2103-1772316000-1772330400@www.salsainbonn.de
SUMMARY:Cubarriba - Tanzschule Max7 Zentrum
DESCRIPTION:Cubarriba – Rueda\, Salsa Cubana & Bachata Workshops
URL:https://www.salsainbonn.de/event/cubarriba/
LOCATION:Tanzschule Max7 Zentrum\, Oxfordstraße 6\, Bonn\, 53111\, Germany
ORGANIZER;CN="Tanzschule Max7":MAILTO:info@max7.de
END:VEVENT
BEGIN:VEVENT
DTSTART;TZID=Europe/Berlin:20260306T190000
DTEND;TZID=Europe/Berlin:20260307T020000
DTSTAMP:20260421T194833
CREATED:20260228T204315Z
LAST-MODIFIED:20260306T132943Z
UID:2127-1772823600-1772848800@www.salsainbonn.de
SUMMARY:Salsa-Bachata-Kizomba im Max7
DESCRIPTION:Jeden Freitag Salsa\, Bachata & Kizomba im Max7 \nInfos auf Facebook \nWeitere Infos
URL:https://www.salsainbonn.de/event/salsa-bachata-kizomba-im-max7/
LOCATION:Tanzschule Max7 Zentrum\, Oxfordstraße 6\, Bonn\, 53111\, Germany
ORGANIZER;CN="Tanzschule Max7":MAILTO:info@max7.de
END:VEVENT
BEGIN:VEVENT
DTSTART;TZID=Europe/Berlin:20260307T190000
DTEND;TZID=Europe/Berlin:20260308T020000
DTSTAMP:20260421T194833
CREATED:20260307T133818Z
LAST-MODIFIED:20260307T133818Z
UID:2182-1772910000-1772935200@www.salsainbonn.de
SUMMARY:Havanna Night - Salsa Cubana & Son Workshops
DESCRIPTION:Havanna Night – Salsa Cubana & Son Workshops im Max7 \nWeitere Infos
URL:https://www.salsainbonn.de/event/havanna-night-salsa-cubana-son-workshops/
LOCATION:Tanzschule Max7 Zentrum\, Oxfordstraße 6\, Bonn\, 53111\, Germany
ORGANIZER;CN="Tanzschule Max7":MAILTO:info@max7.de
END:VEVENT
BEGIN:VEVENT
DTSTART;TZID=Europe/Berlin:20260308T180000
DTEND;TZID=Europe/Berlin:20260308T210000
DTSTAMP:20260421T194833
CREATED:20260227T233731Z
LAST-MODIFIED:20260306T055258Z
UID:2117-1772992800-1773003600@www.salsainbonn.de
SUMMARY:Tanzabend im Max7
DESCRIPTION:Am Sonntag\, den 08.03. treffen wir uns wieder ab 18 Uhr im Max7 / Tanzbar\, Oxfordstraße 6 in Bonn. \nTanzabend in der Tanzschule Max7\nWir freuen uns aufs Tanzen mit euch!\n💃🕺
URL:https://www.salsainbonn.de/event/tanzabend-im-max7-6/
LOCATION:Tanzschule Max7 Zentrum\, Oxfordstraße 6\, Bonn\, 53111\, Germany
ORGANIZER;CN="Tanzschule Max7":MAILTO:info@max7.de
END:VEVENT
BEGIN:VEVENT
DTSTART;TZID=Europe/Berlin:20260313T190000
DTEND;TZID=Europe/Berlin:20260314T020000
DTSTAMP:20260421T194833
CREATED:20260306T033827Z
LAST-MODIFIED:20260306T132855Z
UID:2157-1773428400-1773453600@www.salsainbonn.de
SUMMARY:Salsa-Bachata-Kizomba im Max7
DESCRIPTION:Jeden Freitag Salsa\, Bachata & Kizomba im Max7 \nInfos auf Facebook \nWeitere Infos
URL:https://www.salsainbonn.de/event/salsa-bachata-kizomba-im-max7-2/
LOCATION:Tanzschule Max7 Zentrum\, Oxfordstraße 6\, Bonn\, 53111\, Germany
ORGANIZER;CN="Tanzschule Max7":MAILTO:info@max7.de
END:VEVENT
BEGIN:VEVENT
DTSTART;TZID=Europe/Berlin:20260314T170000
DTEND;TZID=Europe/Berlin:20260315T020000
DTSTAMP:20260421T194833
CREATED:20260311T173847Z
LAST-MODIFIED:20260311T173949Z
UID:2186-1773507600-1773540000@www.salsainbonn.de
SUMMARY:Schnuppertag und Salsa Party im Max7
DESCRIPTION:Schnuppertag – 12 Workshops\, 8 Tänze / Anfänger & Fortgeschrittene\nab 22:00 Salsa Bachata Discofox Kizomba Party auf 3 Ebenen
URL:https://www.salsainbonn.de/event/schnuppertag-und-salsa-party-im-max7/
LOCATION:Tanzschule Max7 Zentrum\, Oxfordstraße 6\, Bonn\, 53111\, Germany
ORGANIZER;CN="Tanzschule Max7":MAILTO:info@max7.de
END:VEVENT
BEGIN:VEVENT
DTSTART;TZID=Europe/Berlin:20260315T180000
DTEND;TZID=Europe/Berlin:20260315T210000
DTSTAMP:20260421T194833
CREATED:20260311T173330Z
LAST-MODIFIED:20260311T173330Z
UID:2184-1773597600-1773608400@www.salsainbonn.de
SUMMARY:Tanzabend im Max7
DESCRIPTION:Am Sonntag\, den 15.03. treffen wir uns ab 18 Uhr im Max7 / Tanzbar\, Oxfordstraße 6 in Bonn. \nTanzabend in der Tanzschule Max7\nWir freuen uns aufs Tanzen mit euch!\n💃🕺
URL:https://www.salsainbonn.de/event/tanzabend-im-max7-7/
LOCATION:Tanzschule Max7 Zentrum\, Oxfordstraße 6\, Bonn\, 53111\, Germany
ORGANIZER;CN="Tanzschule Max7":MAILTO:info@max7.de
END:VEVENT
BEGIN:VEVENT
DTSTART;TZID=Europe/Berlin:20260320T190000
DTEND;TZID=Europe/Berlin:20260321T020000
DTSTAMP:20260421T194833
CREATED:20260314T102614Z
LAST-MODIFIED:20260314T102842Z
UID:2196-1774033200-1774058400@www.salsainbonn.de
SUMMARY:Salsa-Bachata-Kizomba im Max7
DESCRIPTION:Jeden Freitag Salsa\, Bachata & Kizomba im Max7 \nInfos auf Facebook \nWeitere Infos
URL:https://www.salsainbonn.de/event/salsa-bachata-kizomba-im-max7-3/
LOCATION:Tanzschule Max7 Zentrum\, Oxfordstraße 6\, Bonn\, 53111\, Germany
ORGANIZER;CN="Tanzschule Max7":MAILTO:info@max7.de
END:VEVENT
BEGIN:VEVENT
DTSTART;TZID=Europe/Berlin:20260321T200000
DTEND;TZID=Europe/Berlin:20260322T020000
DTSTAMP:20260421T194833
CREATED:20260304T215209Z
LAST-MODIFIED:20260305T070703Z
UID:2147-1774123200-1774144800@www.salsainbonn.de
SUMMARY:Mundo Caribeno Special
DESCRIPTION:Festival Over the Border \nMundo Caribeno Special\nSamstag\, den 21.03.2026\, Sion im Carre \nFloor 1: Salsa & Bachata\nFloor 2: Afrobeats – Kizomba – Balkan \nInfos und Tickets: koelnbonn-live.de
URL:https://www.salsainbonn.de/event/mundo-caribeno-special/
LOCATION:Sion im Carré\, In der Sürst 1\, Bonn\, 53111\, Germany
END:VEVENT
BEGIN:VEVENT
DTSTART;TZID=Europe/Berlin:20260322T180000
DTEND;TZID=Europe/Berlin:20260322T210000
DTSTAMP:20260421T194833
CREATED:20260316T104302Z
LAST-MODIFIED:20260316T110109Z
UID:2212-1774202400-1774213200@www.salsainbonn.de
SUMMARY:Tanzabend im Max7
DESCRIPTION:Am Sonntag\, den 22.03. findet ab 18 Uhr wieder ein Tanzabend im Max7 Zentrum\, Oxfordstraße 6 in Bonn\, statt. \nWir freuen uns aufs Tanzen mit euch!\n💃🕺
URL:https://www.salsainbonn.de/event/tanzabend-im-max7-8/
LOCATION:Tanzschule Max7 Zentrum\, Oxfordstraße 6\, Bonn\, 53111\, Germany
ORGANIZER;CN="Tanzschule Max7":MAILTO:info@max7.de
END:VEVENT
BEGIN:VEVENT
DTSTART;TZID=Europe/Berlin:20260327T190000
DTEND;TZID=Europe/Berlin:20260328T020000
DTSTAMP:20260421T194833
CREATED:20260317T214217Z
LAST-MODIFIED:20260317T214330Z
UID:2226-1774638000-1774663200@www.salsainbonn.de
SUMMARY:Salsa-Bachata-Kizomba im Max7
DESCRIPTION:Jeden Freitag Salsa\, Bachata & Kizomba im Max7 \nInfos auf Facebook \nWeitere Infos
URL:https://www.salsainbonn.de/event/salsa-bachata-kizomba-im-max7-4/
LOCATION:Tanzschule Max7 Zentrum\, Oxfordstraße 6\, Bonn\, 53111\, Germany
ORGANIZER;CN="Tanzschule Max7":MAILTO:info@max7.de
END:VEVENT
BEGIN:VEVENT
DTSTART;TZID=Europe/Berlin:20260328T190000
DTEND;TZID=Europe/Berlin:20260329T030000
DTSTAMP:20260421T194833
CREATED:20260306T090941Z
LAST-MODIFIED:20260306T132808Z
UID:2162-1774724400-1774753200@www.salsainbonn.de
SUMMARY:Cubarriba SPECIAL
DESCRIPTION:Cubarriba SPECIAL im Max7 \nInfos auf Facebook \nWeitere Infos
URL:https://www.salsainbonn.de/event/cubarriba-special/
LOCATION:Tanzschule Max7 Zentrum\, Oxfordstraße 6\, Bonn\, 53111\, Germany
ORGANIZER;CN="Tanzschule Max7":MAILTO:info@max7.de
END:VEVENT
BEGIN:VEVENT
DTSTART;TZID=Europe/Berlin:20260329T160000
DTEND;TZID=Europe/Berlin:20260329T180000
DTSTAMP:20260421T194833
CREATED:20260124T011448Z
LAST-MODIFIED:20260202T001030Z
UID:2075-1774800000-1774807200@www.salsainbonn.de
SUMMARY:SiB-Mitgliederversammlung (nur für Mitglieder)
DESCRIPTION:Am Sonntag\, den 29.03.2026 findet die jährliche Mitgliederversammlung des SiB statt.\nWeitere Informationen folgen.
URL:https://www.salsainbonn.de/event/sib-mitgliederversammlung-2026/
LOCATION:Eiscafé\, La Dolce Vita\, Kaiserplatz 16\, Bonn\, 53113\, Germany
END:VEVENT
BEGIN:VEVENT
DTSTART;TZID=Europe/Berlin:20260329T180000
DTEND;TZID=Europe/Berlin:20260329T210000
DTSTAMP:20260421T194833
CREATED:20260325T120156Z
LAST-MODIFIED:20260325T120156Z
UID:2229-1774807200-1774818000@www.salsainbonn.de
SUMMARY:Tanzabend im Max7
DESCRIPTION:Am Sonntag\, den 29.03. treffen wir uns nach der Mitgliederversammlung ab ca. 18 Uhr im Max7 Zentrum\, Oxfordstraße 6 in Bonn. \nWir freuen uns aufs Tanzen mit euch!\n💃🕺
URL:https://www.salsainbonn.de/event/tanzabend-im-max7-9/
LOCATION:Tanzschule Max7 Zentrum\, Oxfordstraße 6\, Bonn\, 53111\, Germany
ORGANIZER;CN="Tanzschule Max7":MAILTO:info@max7.de
END:VEVENT
END:VCALENDAR