BEGIN:VCALENDAR
VERSION:2.0
PRODID:-//Salsa in Bonn e.V. - ECPv6.15.20//NONSGML v1.0//EN
CALSCALE:GREGORIAN
METHOD:PUBLISH
X-ORIGINAL-URL:https://www.salsainbonn.de
X-WR-CALDESC:Veranstaltungen für Salsa in Bonn e.V.
REFRESH-INTERVAL;VALUE=DURATION:PT1H
X-Robots-Tag:noindex
X-PUBLISHED-TTL:PT1H
BEGIN:VTIMEZONE
TZID:Europe/Berlin
BEGIN:DAYLIGHT
TZOFFSETFROM:+0100
TZOFFSETTO:+0200
TZNAME:CEST
DTSTART:20250330T010000
END:DAYLIGHT
BEGIN:STANDARD
TZOFFSETFROM:+0200
TZOFFSETTO:+0100
TZNAME:CET
DTSTART:20251026T010000
END:STANDARD
BEGIN:DAYLIGHT
TZOFFSETFROM:+0100
TZOFFSETTO:+0200
TZNAME:CEST
DTSTART:20260329T010000
END:DAYLIGHT
BEGIN:STANDARD
TZOFFSETFROM:+0200
TZOFFSETTO:+0100
TZNAME:CET
DTSTART:20261025T010000
END:STANDARD
BEGIN:DAYLIGHT
TZOFFSETFROM:+0100
TZOFFSETTO:+0200
TZNAME:CEST
DTSTART:20270328T010000
END:DAYLIGHT
BEGIN:STANDARD
TZOFFSETFROM:+0200
TZOFFSETTO:+0100
TZNAME:CET
DTSTART:20271031T010000
END:STANDARD
END:VTIMEZONE
BEGIN:VEVENT
DTSTART;TZID=Europe/Berlin:20260208T180000
DTEND;TZID=Europe/Berlin:20260208T210000
DTSTAMP:20260421T231015
CREATED:20260203T225600Z
LAST-MODIFIED:20260203T225600Z
UID:2095-1770573600-1770584400@www.salsainbonn.de
SUMMARY:Tanzabend im Max7
DESCRIPTION:Am Sonntag\, den 08.02. treffen wir uns ab 18 Uhr im Max7 / Tanzbar\, Oxfordstraße 6 in Bonn. \nWir freuen uns aufs Tanzen mit euch!\n💃🕺
URL:https://www.salsainbonn.de/event/tanzabend-im-max7-4/
LOCATION:Tanzschule Max7 Zentrum\, Oxfordstraße 6\, Bonn\, 53111\, Germany
ORGANIZER;CN="Tanzschule Max7":MAILTO:info@max7.de
END:VEVENT
BEGIN:VEVENT
DTSTART;TZID=Europe/Berlin:20260215T190000
DTEND;TZID=Europe/Berlin:20260216T020000
DTSTAMP:20260421T231015
CREATED:20260130T232101Z
LAST-MODIFIED:20260130T233808Z
UID:2087-1771182000-1771207200@www.salsainbonn.de
SUMMARY:Fiesta de Carnaval - Die grosse karibische Karnevalsnacht
DESCRIPTION:Fiesta de Carnaval\, am Sonntag\, den 15.02. im Brückenforum. \nTickets und weitere Informationen siehe Brückenforum Bonn und Bonnticket.de
URL:https://www.salsainbonn.de/event/fiesta-de-carnaval-die-grosse-karibische-karnevalsnacht/
LOCATION:Brückenforum\, Brückenforum\, Bonn\, 53225\, Germany
END:VEVENT
BEGIN:VEVENT
DTSTART;TZID=Europe/Berlin:20260222T180000
DTEND;TZID=Europe/Berlin:20260222T210000
DTSTAMP:20260421T231015
CREATED:20260216T141353Z
LAST-MODIFIED:20260216T141353Z
UID:2098-1771783200-1771794000@www.salsainbonn.de
SUMMARY:Tanzabend im Max7
DESCRIPTION:Am Sonntag\, den 22.02. treffen wir uns ab 18 Uhr im Max7 / Tanzbar\, Oxfordstraße 6 in Bonn. \nWir freuen uns aufs Tanzen mit euch!\n💃🕺
URL:https://www.salsainbonn.de/event/tanzabend-im-max7-5/
LOCATION:Tanzschule Max7 Zentrum\, Oxfordstraße 6\, Bonn\, 53111\, Germany
ORGANIZER;CN="Tanzschule Max7":MAILTO:info@max7.de
END:VEVENT
BEGIN:VEVENT
DTSTART;TZID=Europe/Berlin:20260228T190000
DTEND;TZID=Europe/Berlin:20260301T030000
DTSTAMP:20260421T231015
CREATED:20260227T194046Z
LAST-MODIFIED:20260227T194932Z
UID:2108-1772305200-1772334000@www.salsainbonn.de
SUMMARY:Mundo Caribeno - Special Edition
DESCRIPTION:Mundo Caribeno – Location: Sion im Carré\nFür weitere Info´s hier Klicken!
URL:https://www.salsainbonn.de/event/mundo-caribeno-special-edition/
END:VEVENT
BEGIN:VEVENT
DTSTART;TZID=Europe/Berlin:20260228T220000
DTEND;TZID=Europe/Berlin:20260301T020000
DTSTAMP:20260421T231015
CREATED:20260227T193107Z
LAST-MODIFIED:20260227T193449Z
UID:2103-1772316000-1772330400@www.salsainbonn.de
SUMMARY:Cubarriba - Tanzschule Max7 Zentrum
DESCRIPTION:Cubarriba – Rueda\, Salsa Cubana & Bachata Workshops
URL:https://www.salsainbonn.de/event/cubarriba/
LOCATION:Tanzschule Max7 Zentrum\, Oxfordstraße 6\, Bonn\, 53111\, Germany
ORGANIZER;CN="Tanzschule Max7":MAILTO:info@max7.de
END:VEVENT
END:VCALENDAR