BEGIN:VCALENDAR
VERSION:2.0
PRODID:-//Salsa in Bonn e.V. - ECPv6.15.20//NONSGML v1.0//EN
CALSCALE:GREGORIAN
METHOD:PUBLISH
X-ORIGINAL-URL:https://www.salsainbonn.de
X-WR-CALDESC:Veranstaltungen für Salsa in Bonn e.V.
REFRESH-INTERVAL;VALUE=DURATION:PT1H
X-Robots-Tag:noindex
X-PUBLISHED-TTL:PT1H
BEGIN:VTIMEZONE
TZID:Europe/Berlin
BEGIN:DAYLIGHT
TZOFFSETFROM:+0100
TZOFFSETTO:+0200
TZNAME:CEST
DTSTART:20240331T010000
END:DAYLIGHT
BEGIN:STANDARD
TZOFFSETFROM:+0200
TZOFFSETTO:+0100
TZNAME:CET
DTSTART:20241027T010000
END:STANDARD
BEGIN:DAYLIGHT
TZOFFSETFROM:+0100
TZOFFSETTO:+0200
TZNAME:CEST
DTSTART:20250330T010000
END:DAYLIGHT
BEGIN:STANDARD
TZOFFSETFROM:+0200
TZOFFSETTO:+0100
TZNAME:CET
DTSTART:20251026T010000
END:STANDARD
BEGIN:DAYLIGHT
TZOFFSETFROM:+0100
TZOFFSETTO:+0200
TZNAME:CEST
DTSTART:20260329T010000
END:DAYLIGHT
BEGIN:STANDARD
TZOFFSETFROM:+0200
TZOFFSETTO:+0100
TZNAME:CET
DTSTART:20261025T010000
END:STANDARD
END:VTIMEZONE
BEGIN:VEVENT
DTSTART;TZID=Europe/Berlin:20251004T190000
DTEND;TZID=Europe/Berlin:20251005T020000
DTSTAMP:20260422T035932
CREATED:20250627T160920Z
LAST-MODIFIED:20251027T074650Z
UID:1238-1759604400-1759629600@www.salsainbonn.de
SUMMARY:Bailemos! La Bacana Konzert &  Party
DESCRIPTION:Salsa in Bonn e.V.\n\nKonzert & Party \n \nIm Oktober hat der Salsa in Bonn e.V. Geburtstag. 🎉 – und das feiern wir gemeinsam bei der Veranstaltung BAILEMOS! 🎉Die Live-Band LA BACANA sorgt mit ihren größten Hits und eigener Salsa-Musik für beste Stimmung – jeder Song ist garantiert tanzbar und voller Energie.Im Anschluss geht die Party auf zwei Dancefloors weiter! \nHighlights: \n✅ Coole Band 🪘🎺🎹\n✅ 2 Dancefloors: 💃🏽🕺🏽\n*   Salsa\, Bachata: DJ Salomon\n*   Latino Lounge: DJ Francisco\n✅ Cocktailbar und andere Snacks🍹🍷🍻🥃🥨\n✅ Sehr faire Preise 💰\n✅ Gute Erreichbarkeit\, Parkplätze 🚗🚎🚍🚴🏻 \nZeitplan: \nEinlass:    19:00 Uhr\nKonzert:   19:45  Uhr   La Bacana\nParty:        22:00 Uhr \nEintrittspreise:\n\nEarly bird: 20€\nSIB Mitglieder: 10€\nab 29.09. VVK: 25€\nAK: 30€\n\nOnline zzgl. Gebühren. Endpreis siehe Ticketshop \nTickets:\n\nOnline Tickets bei Eventim – hier klicken\nBei Ágnes Tel. 0179 – 68 58 186\n\nLokation:\n\nClemens-August-Saal (CAS)\nClemens August Str. 32 – hinter dem Best Western Hotel President\nParkmöglichkeiten gibt es hinter dem Hotel\, auf dem Unigelände oder in den Nebenstraßen.\nZu Fuß sind es vom Bahnhof aus ca. 12 Minuten\, mit dem Bus 602\, 603 bis zum Botanischen Garten oder zum Poppelsdorfer Platz.\nDer Eingang ist von der Clemens-August-Straße aus im Durchgang links vom Best Western Hotel President.
URL:https://www.salsainbonn.de/event/bailemos/
LOCATION:Clemens August Saal (CAS)\, Clemens-August-Straße 32-36\, Bonn\, 53115\, Germany
END:VEVENT
BEGIN:VEVENT
DTSTART;TZID=Europe/Berlin:20251012T180000
DTEND;TZID=Europe/Berlin:20251012T220000
DTSTAMP:20260422T035932
CREATED:20251006T163337Z
LAST-MODIFIED:20251007T201725Z
UID:1640-1760292000-1760306400@www.salsainbonn.de
SUMMARY:Tanzen im Café Especial
DESCRIPTION:Am Sonntag\, den 12.10.\, tanzen wir in einer neuen Location! \nIm mexikanischen Restaurant Café-Especial gibt’s leckere Spezialitäten und viel Salsa & Bachata. \nLos geht’s um 18 Uhr in der Vivatsgasse 8\, Bonner Innenstadt. \nWir freuen uns auf euch! \n💃🕺Salsa in Bonn e.V. 💃🕺
URL:https://www.salsainbonn.de/event/tanzen-im-cafe-especial/
LOCATION:CAFE ESPECIAL Bonn\, Vivatsgasse 8\, Bonn\, 53111\, Germany
END:VEVENT
BEGIN:VEVENT
DTSTART;TZID=Europe/Berlin:20251018T200000
DTEND;TZID=Europe/Berlin:20251019T020000
DTSTAMP:20260422T035932
CREATED:20251013T145554Z
LAST-MODIFIED:20251215T223459Z
UID:1666-1760817600-1760839200@www.salsainbonn.de
SUMMARY:Noche Tropical
DESCRIPTION:Am Samstag\, den 18.10. ist wieder\nNoche Tropical Party in Bornheim.\nWorkshop mit Bea und die Party mit DJ Francisco \n🎉💃🏽🕺🏽 \nKaiserhalle Bornheim\nKönigstraße 58\nStart: 20 Uhr \nZu Facebook hier klicken!
URL:https://www.salsainbonn.de/event/noche-tropical-2/
LOCATION:Kaiserhalle Bornheim\, Königstraße 58\, Bornheim\, 53332\, Germany
END:VEVENT
BEGIN:VEVENT
DTSTART;TZID=Europe/Berlin:20251019T180000
DTEND;TZID=Europe/Berlin:20251019T230000
DTSTAMP:20260422T035932
CREATED:20251013T195058Z
LAST-MODIFIED:20251016T064353Z
UID:1670-1760896800-1760914800@www.salsainbonn.de
SUMMARY:Tanzen im Café Especial
DESCRIPTION:Letzten Sonntag war einfach großartig – danke an alle\, die dabei waren! 😊 \nAm nächsten Sonntag\, den 19.10.\, ab 18 Uhr geht’s weiter mit Salsa & Bachata im\nCafé Especial in der Vivatsgasse 8\,\nBonner Innenstadt \nFreut euch auf heiße Rhythmen 🪘🪇\, leckeres Essen🫕🍲 und beste Stimmung!🕺💃\nDer Eintritt ist frei. 🎉 \nWir freuen uns auf euch!\nEuer Salsa in Bonn e.V.
URL:https://www.salsainbonn.de/event/tanzen-im-cafe-especial-2/
LOCATION:CAFE ESPECIAL Bonn\, Vivatsgasse 8\, Bonn\, 53111\, Germany
END:VEVENT
BEGIN:VEVENT
DTSTART;TZID=Europe/Berlin:20251025T180000
DTEND;TZID=Europe/Berlin:20251025T194500
DTSTAMP:20260422T035932
CREATED:20250917T082227Z
LAST-MODIFIED:20251016T222835Z
UID:1549-1761415200-1761421500@www.salsainbonn.de
SUMMARY:W.I.M. – Buena Vista Social Club
DESCRIPTION:– Ausgebucht –\n \nFür weitere Infos und Tickets hier klicken
URL:https://www.salsainbonn.de/event/w-i-m-buena-vista-social-club/
LOCATION:Bundeskunsthalle\, Helmut-Kohl-Allee 4\, Bonn\, 53113\, Germany
END:VEVENT
BEGIN:VEVENT
DTSTART;TZID=Europe/Berlin:20251026T190000
DTEND;TZID=Europe/Berlin:20251026T230000
DTSTAMP:20260422T035932
CREATED:20251020T103404Z
LAST-MODIFIED:20251020T104454Z
UID:1747-1761505200-1761519600@www.salsainbonn.de
SUMMARY:Tanzen im Café Especial
DESCRIPTION:Am nächsten Sonntag\, den 26.10. ist „BonnLeuchtet“ und verkaufsoffener Sonntag. Daher starten wir diesmal eine Stunde später\,\nab 19 Uhr mit Salsa & Bachata im \nCafé Especial\, Vivatsgasse 8\,\nin der Bonner Innenstadt \nFreut euch auf heiße Rhythmen 🪘🪇\, leckeres Essen 🫕🍲 und beste Stimmung!🕺💃 \nWir freuen uns auf euch!\nEuer Salsa in Bonn e.V.
URL:https://www.salsainbonn.de/event/tanzen-im-cafe-especial-3/
LOCATION:CAFE ESPECIAL Bonn\, Vivatsgasse 8\, Bonn\, 53111\, Germany
END:VEVENT
END:VCALENDAR