BEGIN:VCALENDAR
VERSION:2.0
PRODID:-//Salsa in Bonn e.V. - ECPv6.15.20//NONSGML v1.0//EN
CALSCALE:GREGORIAN
METHOD:PUBLISH
X-WR-CALNAME:Salsa in Bonn e.V.
X-ORIGINAL-URL:https://www.salsainbonn.de
X-WR-CALDESC:Veranstaltungen für Salsa in Bonn e.V.
REFRESH-INTERVAL;VALUE=DURATION:PT1H
X-Robots-Tag:noindex
X-PUBLISHED-TTL:PT1H
BEGIN:VTIMEZONE
TZID:Europe/Berlin
BEGIN:DAYLIGHT
TZOFFSETFROM:+0100
TZOFFSETTO:+0200
TZNAME:CEST
DTSTART:20240331T010000
END:DAYLIGHT
BEGIN:STANDARD
TZOFFSETFROM:+0200
TZOFFSETTO:+0100
TZNAME:CET
DTSTART:20241027T010000
END:STANDARD
BEGIN:DAYLIGHT
TZOFFSETFROM:+0100
TZOFFSETTO:+0200
TZNAME:CEST
DTSTART:20250330T010000
END:DAYLIGHT
BEGIN:STANDARD
TZOFFSETFROM:+0200
TZOFFSETTO:+0100
TZNAME:CET
DTSTART:20251026T010000
END:STANDARD
BEGIN:DAYLIGHT
TZOFFSETFROM:+0100
TZOFFSETTO:+0200
TZNAME:CEST
DTSTART:20260329T010000
END:DAYLIGHT
BEGIN:STANDARD
TZOFFSETFROM:+0200
TZOFFSETTO:+0100
TZNAME:CET
DTSTART:20261025T010000
END:STANDARD
END:VTIMEZONE
BEGIN:VEVENT
DTSTART;TZID=Europe/Berlin:20250920T200000
DTEND;TZID=Europe/Berlin:20250921T020000
DTSTAMP:20260422T053145
CREATED:20250917T140723Z
LAST-MODIFIED:20251215T223707Z
UID:1564-1758398400-1758420000@www.salsainbonn.de
SUMMARY:Noche Tropical
DESCRIPTION:🌎🌎💃🏽🕺🏽💃🏽🕺🏽💃🏽🌎🌎 \nParty in Bornheim. \nWorkshop mit Bea und die Party mit DJ Francisco \n 🎉💃🏽🕺🏽 \nNoche Tropical \nKaiserhalle Bornheim\nKönigstraße 58 \nStart: 20 Uhr \nLadies Eintritt frei bis 24 Uhr \n🌎🌎💃🏽🕺🏽💃🏽🕺🏽💃🏽🌎🌎
URL:https://www.salsainbonn.de/event/noche-tropical/
LOCATION:Kaiserhalle Bornheim\, Königstraße 58\, Bornheim\, 53332\, Germany
END:VEVENT
BEGIN:VEVENT
DTSTART;TZID=Europe/Berlin:20250927T200000
DTEND;TZID=Europe/Berlin:20250928T020000
DTSTAMP:20260422T053145
CREATED:20250910T115226Z
LAST-MODIFIED:20250911T043230Z
UID:1526-1759003200-1759024800@www.salsainbonn.de
SUMMARY:Latin Night
DESCRIPTION:Die nächste Latin Night geht im Tanzhaus Bonn am Samstag\, den 27.09.25\, mit DJ Lokito an den Start. Ab 20 Uhr ist Einlass zur Bonner Top-Party. \nSalsa\, Bachata\, Merengue\, Latin Pop & Reggaeton \nSave the Date! \nEintritt: \n\nEarly Bird (bis 13.09.): 10\,00 € pro Person.\nVorverkauf (ab 14.09.): 12\,00 € pro Person.\nAbendkasse: 14\,00 € pro Person.\n\nTickets: \n\nTanzhaus Bonn – hier klicken\n\nAnfahrt: \n\nMit der Linie 66 fast vor die Haustür des Tanzhauses Bonn fahren. Ausstieg Haltestelle Vilich.\nOder mit dem Auto auf den kostenlosen Parkplätzen direkt vor Ort parken.\nGenaue Adresse und Google Karte siehe „Veranstaltungsort“ weiter unten.\n\nWir freuen uns mega!
URL:https://www.salsainbonn.de/event/latin-night-2/
LOCATION:Tanzhaus Bonn\, Tanzhaus Bonn\, Gartenstraße 102\, Bonn\, 53225\, Germany
END:VEVENT
END:VCALENDAR