BEGIN:VCALENDAR
VERSION:2.0
PRODID:-//Salsa in Bonn e.V. - ECPv6.15.20//NONSGML v1.0//EN
CALSCALE:GREGORIAN
METHOD:PUBLISH
X-ORIGINAL-URL:https://www.salsainbonn.de
X-WR-CALDESC:Veranstaltungen für Salsa in Bonn e.V.
REFRESH-INTERVAL;VALUE=DURATION:PT1H
X-Robots-Tag:noindex
X-PUBLISHED-TTL:PT1H
BEGIN:VTIMEZONE
TZID:Europe/Berlin
BEGIN:DAYLIGHT
TZOFFSETFROM:+0100
TZOFFSETTO:+0200
TZNAME:CEST
DTSTART:20240331T010000
END:DAYLIGHT
BEGIN:STANDARD
TZOFFSETFROM:+0200
TZOFFSETTO:+0100
TZNAME:CET
DTSTART:20241027T010000
END:STANDARD
BEGIN:DAYLIGHT
TZOFFSETFROM:+0100
TZOFFSETTO:+0200
TZNAME:CEST
DTSTART:20250330T010000
END:DAYLIGHT
BEGIN:STANDARD
TZOFFSETFROM:+0200
TZOFFSETTO:+0100
TZNAME:CET
DTSTART:20251026T010000
END:STANDARD
BEGIN:DAYLIGHT
TZOFFSETFROM:+0100
TZOFFSETTO:+0200
TZNAME:CEST
DTSTART:20260329T010000
END:DAYLIGHT
BEGIN:STANDARD
TZOFFSETFROM:+0200
TZOFFSETTO:+0100
TZNAME:CET
DTSTART:20261025T010000
END:STANDARD
END:VTIMEZONE
BEGIN:VEVENT
DTSTART;TZID=Europe/Berlin:20250612T180000
DTEND;TZID=Europe/Berlin:20250612T180000
DTSTAMP:20260422T111927
CREATED:20250524T131459Z
LAST-MODIFIED:20250610T195922Z
UID:578-1749751200-1749751200@www.salsainbonn.de
SUMMARY:Latino Lounge
DESCRIPTION:🌎🌎💃🏽🕺🏽💃🏽🕺🏽💃🏽🌎🌎 \nLatino Lounge \n am Donnerstag im Dorint Hotel \nUm 18 Uhr starten wir mit einem Salsa cubana Workshop mit Yuni aus Kuba. \nAb 19 Uhr Open Air Party mit \nDJ Francisco \n🎉✨🎉✨🎉✨🎉✨🎉 \nDas sollst Du nicht verpassen! \n🏡: Dorint Hotel\, Berliner Freiheit 2\, Bonn\n💰: freeeeee!\n✅: Salsa in Bonn e.V vor Ort\n✅: Toiletten\n✅: Cocktails und Leckereien \n✨ Am Abend werde ich Salsa Boot Karten für Bonn (reg.25€\, erm.10€) und Köln(33 €) verkaufen.✨ \nIhr könnt direkt vom Rheinufer kommen. \n🚴🏿‍♂️🚎🚆🛩️🛸⛵ \nWir freuen uns auf Euch!!! ❤️ \n🌎🌎💃🏽🕺🏽💃🏽🕺🏽💃🏽🌎🌎
URL:https://www.salsainbonn.de/event/salsa-party-im-dorint-hotel-bonn/
LOCATION:Dorint Hotel Bonn\, Berliner Freiheit 2\, Bonn\, 53111\, Germany
END:VEVENT
BEGIN:VEVENT
DTSTART;TZID=Europe/Berlin:20250613T190000
DTEND;TZID=Europe/Berlin:20250613T190000
DTSTAMP:20260422T111927
CREATED:20250610T195332Z
LAST-MODIFIED:20250612T225043Z
UID:1082-1749841200-1749841200@www.salsainbonn.de
SUMMARY:Tanzen an den Kanonen
DESCRIPTION:🌎🌎💃🏽🕺🏽💃🏽🕺🏽💃🏽🌎🌎 \nIch habe schon eine Überraschung angekündigt. 🪅 \nAm kommenden Freitag\, den 13.06. gibt’s erstmal über 30 Grad. Herrliches Wetter zum Tanzen. \nIch lege Euch zwar sehr gerne Musik auf\, aber diesmal haben wir einen echten DJ dabei. \n😂🎉💃🏽🕺🏽🪅✨ \nDJ Francisco sorgt für tolle Musik und super Laune. \nBeim letzten super Wetter waren über 120 Leute da. Wir können es toppen!💃🏽🕺🏽💪🏽 \nKarten für Salsa Boote in Köln und Bonn habe ich dabei 😀⛵ \n🌎🌎💃🏽🕺🏽💃🏽🕺🏽💃🏽🌎🌎
URL:https://www.salsainbonn.de/event/tanzen-an-den-kanonen-3/
LOCATION:Bonner Stadtbefestigung\, Stadtbefestigung Alter Zoll\, Bonn\, 53113\, Germany
END:VEVENT
BEGIN:VEVENT
DTSTART;TZID=Europe/Berlin:20250614T203000
DTEND;TZID=Europe/Berlin:20250615T020000
DTSTAMP:20260422T111927
CREATED:20250524T142659Z
LAST-MODIFIED:20250614T143725Z
UID:611-1749933000-1749952800@www.salsainbonn.de
SUMMARY:Latin Night
DESCRIPTION:SALSA – BACHATA – MERENGUE\nLATIN POP & REGGAETON\nim Tanzhaus Bonn
URL:https://www.salsainbonn.de/event/latin-night/
LOCATION:Tanzhaus Bonn\, Tanzhaus Bonn\, Gartenstraße 102\, Bonn\, 53225\, Germany
END:VEVENT
BEGIN:VEVENT
DTSTART;TZID=Europe/Berlin:20250615T171500
DTEND;TZID=Europe/Berlin:20250615T220000
DTSTAMP:20260422T111927
CREATED:20250610T201551Z
LAST-MODIFIED:20250610T211823Z
UID:1094-1750007700-1750024800@www.salsainbonn.de
SUMMARY:Salsa Open Air Köln am Schokoladenmuseum
DESCRIPTION:
URL:https://www.salsainbonn.de/event/salsa-open-air-koeln/
LOCATION:Dachterrasse Schokoladenmuseum Köln\, Schokoladenmuseum\, Köln\, 50678\, Germany
END:VEVENT
BEGIN:VEVENT
DTSTART;TZID=Europe/Berlin:20250630T180000
DTEND;TZID=Europe/Berlin:20250630T220000
DTSTAMP:20260422T111927
CREATED:20250524T132000Z
LAST-MODIFIED:20251215T224127Z
UID:582-1751306400-1751320800@www.salsainbonn.de
SUMMARY:Salsa in der Weingalerie
DESCRIPTION:💃🏽🕺🏽💃🏽🕺🏽💃🏽🕺🏽💃🏽🕺🏽 \nNach dem Erfolg im April lädt die Wein Galerie wieder zum Tanzen ein. \nAm 30.06. ab 18 Uhr wird im Lokal und in der Bonngasse getanzt 🤩💃🏽🕺🏽 \nWir sorgen für gute Musik und das Lokal bietet an dem Abend leckere Weine an. 😂 \nKomme vorbei und genieße mit uns den Abend in der Bonner Innenstadt. 💃🏽🕺🏽🍷☀️ \n✅ kostenlos\n✅ authentisch\n✅ gute Musik\n✅ exzellente Weine\n✅ fröhliche Menschen \nOrt: Bonngasse 4\, direkt am Marktplatz in Bonn \n💃🏽🕺🏽💃🏽🕺🏽💃🏽🕺🏽💃🏽🕺🏽
URL:https://www.salsainbonn.de/event/salsa-in-der-weingalerie/
LOCATION:Weingalerie Bonn\, Bonngasse 4\, Bonn\, 53111\, Germany
END:VEVENT
END:VCALENDAR