BEGIN:VCALENDAR
VERSION:2.0
PRODID:-//Salsa in Bonn e.V. - ECPv6.15.20//NONSGML v1.0//EN
CALSCALE:GREGORIAN
METHOD:PUBLISH
X-WR-CALNAME:Salsa in Bonn e.V.
X-ORIGINAL-URL:https://www.salsainbonn.de
X-WR-CALDESC:Veranstaltungen für Salsa in Bonn e.V.
REFRESH-INTERVAL;VALUE=DURATION:PT1H
X-Robots-Tag:noindex
X-PUBLISHED-TTL:PT1H
BEGIN:VTIMEZONE
TZID:Europe/Berlin
BEGIN:DAYLIGHT
TZOFFSETFROM:+0100
TZOFFSETTO:+0200
TZNAME:CEST
DTSTART:20250330T010000
END:DAYLIGHT
BEGIN:STANDARD
TZOFFSETFROM:+0200
TZOFFSETTO:+0100
TZNAME:CET
DTSTART:20251026T010000
END:STANDARD
BEGIN:DAYLIGHT
TZOFFSETFROM:+0100
TZOFFSETTO:+0200
TZNAME:CEST
DTSTART:20260329T010000
END:DAYLIGHT
BEGIN:STANDARD
TZOFFSETFROM:+0200
TZOFFSETTO:+0100
TZNAME:CET
DTSTART:20261025T010000
END:STANDARD
BEGIN:DAYLIGHT
TZOFFSETFROM:+0100
TZOFFSETTO:+0200
TZNAME:CEST
DTSTART:20270328T010000
END:DAYLIGHT
BEGIN:STANDARD
TZOFFSETFROM:+0200
TZOFFSETTO:+0100
TZNAME:CET
DTSTART:20271031T010000
END:STANDARD
END:VTIMEZONE
BEGIN:VEVENT
DTSTART;TZID=Europe/Berlin:20260424T190000
DTEND;TZID=Europe/Berlin:20260424T220000
DTSTAMP:20260421T144100
CREATED:20260421T092957Z
LAST-MODIFIED:20260421T092957Z
UID:2329-1777057200-1777068000@www.salsainbonn.de
SUMMARY:Tanzen an den Kanonen
DESCRIPTION:Bei gutem Wetter wird ab 19:00 Uhr an den Kanonen (Bonner Stadtbefestigung) getanzt. \nHinweis: Spontanes Treffen\, wetterabhängig.
URL:https://www.salsainbonn.de/event/tanzen-an-den-kanonen-2/
LOCATION:Bonner Stadtbefestigung\, Stadtbefestigung Alter Zoll\, Bonn\, 53113\, Germany
END:VEVENT
BEGIN:VEVENT
DTSTART;TZID=Europe/Berlin:20260424T190000
DTEND;TZID=Europe/Berlin:20260425T020000
DTSTAMP:20260421T144100
CREATED:20260418T093042Z
LAST-MODIFIED:20260418T093042Z
UID:2325-1777057200-1777082400@www.salsainbonn.de
SUMMARY:Salsa-Bachata-Kizomba im Max7
DESCRIPTION:Jeden Freitag Salsa\, Bachata & Kizomba im Max7 \nInfos auf Facebook \nWeitere Infos
URL:https://www.salsainbonn.de/event/salsa-bachata-kizomba-im-max7-8/
LOCATION:Tanzschule Max7 Zentrum\, Oxfordstraße 6\, Bonn\, 53111\, Germany
ORGANIZER;CN="Tanzschule Max7":MAILTO:info@max7.de
END:VEVENT
BEGIN:VEVENT
DTSTART;TZID=Europe/Berlin:20260430T190000
DTEND;TZID=Europe/Berlin:20260501T030000
DTSTAMP:20260421T144100
CREATED:20260405T140527Z
LAST-MODIFIED:20260405T152626Z
UID:2281-1777575600-1777604400@www.salsainbonn.de
SUMMARY:Tanz in den Mai - Salsa Bachata Kizomba
DESCRIPTION:Tanz in den Mai – Salsa Bachata Kizomba \nInfos auf Facebook \nWeitere Infos
URL:https://www.salsainbonn.de/event/tanz-in-den-mai-salsa-bachata-kizomba/
LOCATION:Tanzschule Max7 Zentrum\, Oxfordstraße 6\, Bonn\, 53111\, Germany
ORGANIZER;CN="Tanzschule Max7":MAILTO:info@max7.de
END:VEVENT
BEGIN:VEVENT
DTSTART;TZID=Europe/Berlin:20260430T200000
DTEND;TZID=Europe/Berlin:20260501T030000
DTSTAMP:20260421T144100
CREATED:20260405T141248Z
LAST-MODIFIED:20260418T233831Z
UID:2285-1777579200-1777604400@www.salsainbonn.de
SUMMARY:Die karibische Nacht in den Mai - MAIO CARIBE
DESCRIPTION:Die karibische Nacht in den Mai – MAIO CARIBE \nInfos auf Facebook
URL:https://www.salsainbonn.de/event/die-karibische-nacht-in-den-mai-maio-caribe/
LOCATION:Sion im Carré\, In der Sürst 1\, Bonn\, 53111\, Germany
END:VEVENT
BEGIN:VEVENT
DTSTART;TZID=Europe/Berlin:20260504T180000
DTEND;TZID=Europe/Berlin:20260504T220000
DTSTAMP:20260421T144100
CREATED:20260418T092551Z
LAST-MODIFIED:20260418T092551Z
UID:2323-1777917600-1777932000@www.salsainbonn.de
SUMMARY:Salsa in der Weingalerie
DESCRIPTION:💃🏽🕺🏽 Salsa in der Weingalerie 🕺🏽💃🏽🤩🍷 Wir sind zurück! 🍷🤩 \nAm 04.05. ab 18 Uhr geht es weiter – danach wieder regelmäßig jeden ersten Montag im Monat. \nFreu dich auf einen entspannten Abend mit mitreißender Salsa-Musik und einer tollen Auswahl an leckeren Weinen vom Lokal. 🍷✨ \nGetanzt wird überwiegend draußen in der Bonngasse. \nHinweis: Die Veranstaltung ist wetterabhängig. 💃🏽🕺🏽☀️ \n📍 Ort: Bonngasse 4\, direkt am Marktplatz in Bonn \nIn Kooperation mit Salsa in Bonn e.V. 💃🕺
URL:https://www.salsainbonn.de/event/salsa-in-der-weingalerie-3/
LOCATION:Weingalerie Bonn\, Bonngasse 4\, Bonn\, 53111\, Germany
ORGANIZER;CN="Weingalerie Bonn":MAILTO:genuss@wein-galerie-bonn.de
END:VEVENT
BEGIN:VEVENT
DTSTART;TZID=Europe/Berlin:20260628T170000
DTEND;TZID=Europe/Berlin:20260628T213000
DTSTAMP:20260421T144100
CREATED:20260124T005353Z
LAST-MODIFIED:20260418T231457Z
UID:2058-1782666000-1782682200@www.salsainbonn.de
SUMMARY:Bonner Salsaboot 2026 - Save the Date!
DESCRIPTION:Am Sonntag\, den 28. Juni 2026 heißt es wieder: \nSalsa auf dem Rhein mit der MS Beethoven!Das 18. Bonner Salsaboot – bereits zum siebten Mal an Bord der MS Beethoven. \n📍 Ort:    MS Beethoven    Brassertufer\, Anleger Nr. 5    53111 Bonn \n🕒 Zeiten:\n– Boarding:  17:00 Uhr\n– Abfahrt:     17:20 Uhr\n– Rückkehr:  21:30 Uhr \n💃 Preise:\n– Early Bird (bis 31.05.):   25 € + Online-Gebühren\n– Vorverkauf: 30 € + Online-Gebühren\n– Tageskasse: 35 €\n– Sonderpreis für SiB-Vereinsmitglieder: 15 €\n(unabhängig vom Kaufzeitpunkt) \n🎟 Tickets:     Tickets gibt es hier\n… oder sprich uns direkt auf einer Veranstaltung an \n🎶 Programm:\n– 2 Dancefloors mit Salsa & Bachata\n– 2 DJs: DJ Lokito & ein weiterer DJ\n– 1 Workshop \n✨ Weitere Details folgen in Kürze – bleibt gespannt!
URL:https://www.salsainbonn.de/event/bonner-salsaboot-2026-save-the-date/
LOCATION:Brassertufer\, Brassertufer\, Bonn\, 53111\, Germany
ORGANIZER;CN="Salsa in Bonn e.V.":MAILTO:info@salsainbonn.de
END:VEVENT
BEGIN:VEVENT
DTSTART;TZID=Europe/Berlin:20260712T113000
DTEND;TZID=Europe/Berlin:20260712T220000
DTSTAMP:20260421T144100
CREATED:20260311T174950Z
LAST-MODIFIED:20260311T175148Z
UID:2191-1783855800-1783893600@www.salsainbonn.de
SUMMARY:Salsa Boot Köln 2026
DESCRIPTION:Salsa Boot Köln – Sonntag 12. Juli 2026
URL:https://www.salsainbonn.de/event/salsa-boot-koeln-2026/
LOCATION:Frankenwerft Köln\, Frankenwerft\, Köln\, 50667\, Germany
END:VEVENT
END:VCALENDAR