BEGIN:VCALENDAR
VERSION:2.0
PRODID:-//Salsa in Bonn e.V. - ECPv6.15.20//NONSGML v1.0//EN
CALSCALE:GREGORIAN
METHOD:PUBLISH
X-WR-CALNAME:Salsa in Bonn e.V.
X-ORIGINAL-URL:https://www.salsainbonn.de
X-WR-CALDESC:Veranstaltungen für Salsa in Bonn e.V.
REFRESH-INTERVAL;VALUE=DURATION:PT1H
X-Robots-Tag:noindex
X-PUBLISHED-TTL:PT1H
BEGIN:VTIMEZONE
TZID:Europe/Berlin
BEGIN:DAYLIGHT
TZOFFSETFROM:+0100
TZOFFSETTO:+0200
TZNAME:CEST
DTSTART:20250330T010000
END:DAYLIGHT
BEGIN:STANDARD
TZOFFSETFROM:+0200
TZOFFSETTO:+0100
TZNAME:CET
DTSTART:20251026T010000
END:STANDARD
BEGIN:DAYLIGHT
TZOFFSETFROM:+0100
TZOFFSETTO:+0200
TZNAME:CEST
DTSTART:20260329T010000
END:DAYLIGHT
BEGIN:STANDARD
TZOFFSETFROM:+0200
TZOFFSETTO:+0100
TZNAME:CET
DTSTART:20261025T010000
END:STANDARD
BEGIN:DAYLIGHT
TZOFFSETFROM:+0100
TZOFFSETTO:+0200
TZNAME:CEST
DTSTART:20270328T010000
END:DAYLIGHT
BEGIN:STANDARD
TZOFFSETFROM:+0200
TZOFFSETTO:+0100
TZNAME:CET
DTSTART:20271031T010000
END:STANDARD
END:VTIMEZONE
BEGIN:VEVENT
DTSTART;TZID=Europe/Berlin:20260628T170000
DTEND;TZID=Europe/Berlin:20260628T213000
DTSTAMP:20260421T230832
CREATED:20260124T005353Z
LAST-MODIFIED:20260418T231457Z
UID:2058-1782666000-1782682200@www.salsainbonn.de
SUMMARY:Bonner Salsaboot 2026 - Save the Date!
DESCRIPTION:Am Sonntag\, den 28. Juni 2026 heißt es wieder: \nSalsa auf dem Rhein mit der MS Beethoven!Das 18. Bonner Salsaboot – bereits zum siebten Mal an Bord der MS Beethoven. \n📍 Ort:    MS Beethoven    Brassertufer\, Anleger Nr. 5    53111 Bonn \n🕒 Zeiten:\n– Boarding:  17:00 Uhr\n– Abfahrt:     17:20 Uhr\n– Rückkehr:  21:30 Uhr \n💃 Preise:\n– Early Bird (bis 31.05.):   25 € + Online-Gebühren\n– Vorverkauf: 30 € + Online-Gebühren\n– Tageskasse: 35 €\n– Sonderpreis für SiB-Vereinsmitglieder: 15 €\n(unabhängig vom Kaufzeitpunkt) \n🎟 Tickets:     Tickets gibt es hier\n… oder sprich uns direkt auf einer Veranstaltung an \n🎶 Programm:\n– 2 Dancefloors mit Salsa & Bachata\n– 2 DJs: DJ Lokito & ein weiterer DJ\n– 1 Workshop \n✨ Weitere Details folgen in Kürze – bleibt gespannt!
URL:https://www.salsainbonn.de/event/bonner-salsaboot-2026-save-the-date/
LOCATION:Brassertufer\, Brassertufer\, Bonn\, 53111\, Germany
ORGANIZER;CN="Salsa in Bonn e.V.":MAILTO:info@salsainbonn.de
END:VEVENT
END:VCALENDAR