BEGIN:VCALENDAR
VERSION:2.0
PRODID:-//Salsa in Bonn e.V. - ECPv6.15.20//NONSGML v1.0//EN
CALSCALE:GREGORIAN
METHOD:PUBLISH
X-WR-CALNAME:Salsa in Bonn e.V.
X-ORIGINAL-URL:https://www.salsainbonn.de
X-WR-CALDESC:Veranstaltungen für Salsa in Bonn e.V.
REFRESH-INTERVAL;VALUE=DURATION:PT1H
X-Robots-Tag:noindex
X-PUBLISHED-TTL:PT1H
BEGIN:VTIMEZONE
TZID:Europe/Berlin
BEGIN:DAYLIGHT
TZOFFSETFROM:+0100
TZOFFSETTO:+0200
TZNAME:CEST
DTSTART:20250330T010000
END:DAYLIGHT
BEGIN:STANDARD
TZOFFSETFROM:+0200
TZOFFSETTO:+0100
TZNAME:CET
DTSTART:20251026T010000
END:STANDARD
BEGIN:DAYLIGHT
TZOFFSETFROM:+0100
TZOFFSETTO:+0200
TZNAME:CEST
DTSTART:20260329T010000
END:DAYLIGHT
BEGIN:STANDARD
TZOFFSETFROM:+0200
TZOFFSETTO:+0100
TZNAME:CET
DTSTART:20261025T010000
END:STANDARD
BEGIN:DAYLIGHT
TZOFFSETFROM:+0100
TZOFFSETTO:+0200
TZNAME:CEST
DTSTART:20270328T010000
END:DAYLIGHT
BEGIN:STANDARD
TZOFFSETFROM:+0200
TZOFFSETTO:+0100
TZNAME:CET
DTSTART:20271031T010000
END:STANDARD
END:VTIMEZONE
BEGIN:VEVENT
DTSTART;TZID=Europe/Berlin:20260425T190000
DTEND;TZID=Europe/Berlin:20260426T020000
DTSTAMP:20260426T023827
CREATED:20260424T210529Z
LAST-MODIFIED:20260424T210855Z
UID:2333-1777143600-1777168800@www.salsainbonn.de
SUMMARY:Cubarriba - Tanzschule Max7 Zentrum
DESCRIPTION:Cubarriba – Rueda\, Salsa Cubana & Bachata Workshops \nInfos auf Facebook \nWeitere Infos
URL:https://www.salsainbonn.de/event/cubarriba-tanzschule-max7-zentrum/
LOCATION:Tanzschule Max7 Zentrum\, Oxfordstraße 6\, Bonn\, 53111\, Germany
ORGANIZER;CN="Tanzschule Max7":MAILTO:info@max7.de
END:VEVENT
BEGIN:VEVENT
DTSTART;TZID=Europe/Berlin:20260426T160000
DTEND;TZID=Europe/Berlin:20260426T200000
DTSTAMP:20260426T023827
CREATED:20260423T210249Z
LAST-MODIFIED:20260423T210249Z
UID:2331-1777219200-1777233600@www.salsainbonn.de
SUMMARY:Tanzen am Fritz-Schröder-Ufer
DESCRIPTION:Am Sonntag\, den 26.04. laden wir ab 16 Uhr zum gemeinsamen Tanzen am Fritz-Schröder-Ufer in Bonn ein. 💃🕺 \nGenießt Musik\, Tanz und die Atmosphäre am Rhein. \nHinweis: Die Veranstaltung ist wetterabhängig.
URL:https://www.salsainbonn.de/event/tanzen-am-fritz-schroeder-ufer/
LOCATION:Rheinufer\, Fritz-Schröder-Ufer\, Bonn\, 53111\, Germany
ORGANIZER;CN="Salsa in Bonn e.V.":MAILTO:info@salsainbonn.de
END:VEVENT
END:VCALENDAR