BEGIN:VCALENDAR
VERSION:2.0
PRODID:-//Salsa in Bonn e.V. - ECPv6.15.20//NONSGML v1.0//EN
CALSCALE:GREGORIAN
METHOD:PUBLISH
X-ORIGINAL-URL:https://www.salsainbonn.de
X-WR-CALDESC:Veranstaltungen für Salsa in Bonn e.V.
REFRESH-INTERVAL;VALUE=DURATION:PT1H
X-Robots-Tag:noindex
X-PUBLISHED-TTL:PT1H
BEGIN:VTIMEZONE
TZID:Europe/Berlin
BEGIN:DAYLIGHT
TZOFFSETFROM:+0100
TZOFFSETTO:+0200
TZNAME:CEST
DTSTART:20250330T010000
END:DAYLIGHT
BEGIN:STANDARD
TZOFFSETFROM:+0200
TZOFFSETTO:+0100
TZNAME:CET
DTSTART:20251026T010000
END:STANDARD
BEGIN:DAYLIGHT
TZOFFSETFROM:+0100
TZOFFSETTO:+0200
TZNAME:CEST
DTSTART:20260329T010000
END:DAYLIGHT
BEGIN:STANDARD
TZOFFSETFROM:+0200
TZOFFSETTO:+0100
TZNAME:CET
DTSTART:20261025T010000
END:STANDARD
BEGIN:DAYLIGHT
TZOFFSETFROM:+0100
TZOFFSETTO:+0200
TZNAME:CEST
DTSTART:20270328T010000
END:DAYLIGHT
BEGIN:STANDARD
TZOFFSETFROM:+0200
TZOFFSETTO:+0100
TZNAME:CET
DTSTART:20271031T010000
END:STANDARD
END:VTIMEZONE
BEGIN:VEVENT
DTSTART;TZID=Europe/Berlin:20260417T183000
DTEND;TZID=Europe/Berlin:20260417T220000
DTSTAMP:20260422T005821
CREATED:20260416T194537Z
LAST-MODIFIED:20260416T195145Z
UID:2318-1776450600-1776463200@www.salsainbonn.de
SUMMARY:Tanzen an den Kanonen
DESCRIPTION:Bei gutem Wetter wird ab 18:30 Uhr an den Kanonen (Bonner Stadtbefestigung) getanzt. \nHinweis: Spontanes Treffen\, wetterabhängig.
URL:https://www.salsainbonn.de/event/tanzen-an-den-kanonen/
LOCATION:Bonner Stadtbefestigung\, Stadtbefestigung Alter Zoll\, Bonn\, 53113\, Germany
END:VEVENT
BEGIN:VEVENT
DTSTART;TZID=Europe/Berlin:20260417T190000
DTEND;TZID=Europe/Berlin:20260418T020000
DTSTAMP:20260422T005821
CREATED:20260410T160105Z
LAST-MODIFIED:20260410T160148Z
UID:2299-1776452400-1776477600@www.salsainbonn.de
SUMMARY:Salsa-Bachata-Kizomba im Max7
DESCRIPTION:Jeden Freitag Salsa\, Bachata & Kizomba im Max7 \nInfos auf Facebook \nWeitere Infos
URL:https://www.salsainbonn.de/event/salsa-bachata-kizomba-im-max7-7/
LOCATION:Tanzschule Max7 Zentrum\, Oxfordstraße 6\, Bonn\, 53111\, Germany
ORGANIZER;CN="Tanzschule Max7":MAILTO:info@max7.de
END:VEVENT
END:VCALENDAR