BEGIN:VCALENDAR
VERSION:2.0
PRODID:-//Salsa in Bonn e.V. - ECPv6.15.20//NONSGML v1.0//EN
CALSCALE:GREGORIAN
METHOD:PUBLISH
X-WR-CALNAME:Salsa in Bonn e.V.
X-ORIGINAL-URL:https://www.salsainbonn.de
X-WR-CALDESC:Veranstaltungen für Salsa in Bonn e.V.
REFRESH-INTERVAL;VALUE=DURATION:PT1H
X-Robots-Tag:noindex
X-PUBLISHED-TTL:PT1H
BEGIN:VTIMEZONE
TZID:Europe/Berlin
BEGIN:DAYLIGHT
TZOFFSETFROM:+0100
TZOFFSETTO:+0200
TZNAME:CEST
DTSTART:20250330T010000
END:DAYLIGHT
BEGIN:STANDARD
TZOFFSETFROM:+0200
TZOFFSETTO:+0100
TZNAME:CET
DTSTART:20251026T010000
END:STANDARD
BEGIN:DAYLIGHT
TZOFFSETFROM:+0100
TZOFFSETTO:+0200
TZNAME:CEST
DTSTART:20260329T010000
END:DAYLIGHT
BEGIN:STANDARD
TZOFFSETFROM:+0200
TZOFFSETTO:+0100
TZNAME:CET
DTSTART:20261025T010000
END:STANDARD
BEGIN:DAYLIGHT
TZOFFSETFROM:+0100
TZOFFSETTO:+0200
TZNAME:CEST
DTSTART:20270328T010000
END:DAYLIGHT
BEGIN:STANDARD
TZOFFSETFROM:+0200
TZOFFSETTO:+0100
TZNAME:CET
DTSTART:20271031T010000
END:STANDARD
END:VTIMEZONE
BEGIN:VEVENT
DTSTART;TZID=Europe/Berlin:20260321T200000
DTEND;TZID=Europe/Berlin:20260322T020000
DTSTAMP:20260421T212204
CREATED:20260304T215209Z
LAST-MODIFIED:20260305T070703Z
UID:2147-1774123200-1774144800@www.salsainbonn.de
SUMMARY:Mundo Caribeno Special
DESCRIPTION:Festival Over the Border \nMundo Caribeno Special\nSamstag\, den 21.03.2026\, Sion im Carre \nFloor 1: Salsa & Bachata\nFloor 2: Afrobeats – Kizomba – Balkan \nInfos und Tickets: koelnbonn-live.de
URL:https://www.salsainbonn.de/event/mundo-caribeno-special/
LOCATION:Sion im Carré\, In der Sürst 1\, Bonn\, 53111\, Germany
END:VEVENT
BEGIN:VEVENT
DTSTART;TZID=Europe/Berlin:20260322T180000
DTEND;TZID=Europe/Berlin:20260322T210000
DTSTAMP:20260421T212204
CREATED:20260316T104302Z
LAST-MODIFIED:20260316T110109Z
UID:2212-1774202400-1774213200@www.salsainbonn.de
SUMMARY:Tanzabend im Max7
DESCRIPTION:Am Sonntag\, den 22.03. findet ab 18 Uhr wieder ein Tanzabend im Max7 Zentrum\, Oxfordstraße 6 in Bonn\, statt. \nWir freuen uns aufs Tanzen mit euch!\n💃🕺
URL:https://www.salsainbonn.de/event/tanzabend-im-max7-8/
LOCATION:Tanzschule Max7 Zentrum\, Oxfordstraße 6\, Bonn\, 53111\, Germany
ORGANIZER;CN="Tanzschule Max7":MAILTO:info@max7.de
END:VEVENT
END:VCALENDAR