BEGIN:VCALENDAR
VERSION:2.0
PRODID:-//Salsa in Bonn e.V. - ECPv6.15.20//NONSGML v1.0//EN
CALSCALE:GREGORIAN
METHOD:PUBLISH
X-ORIGINAL-URL:https://www.salsainbonn.de
X-WR-CALDESC:Veranstaltungen für Salsa in Bonn e.V.
REFRESH-INTERVAL;VALUE=DURATION:PT1H
X-Robots-Tag:noindex
X-PUBLISHED-TTL:PT1H
BEGIN:VTIMEZONE
TZID:Europe/Berlin
BEGIN:DAYLIGHT
TZOFFSETFROM:+0100
TZOFFSETTO:+0200
TZNAME:CEST
DTSTART:20250330T010000
END:DAYLIGHT
BEGIN:STANDARD
TZOFFSETFROM:+0200
TZOFFSETTO:+0100
TZNAME:CET
DTSTART:20251026T010000
END:STANDARD
BEGIN:DAYLIGHT
TZOFFSETFROM:+0100
TZOFFSETTO:+0200
TZNAME:CEST
DTSTART:20260329T010000
END:DAYLIGHT
BEGIN:STANDARD
TZOFFSETFROM:+0200
TZOFFSETTO:+0100
TZNAME:CET
DTSTART:20261025T010000
END:STANDARD
BEGIN:DAYLIGHT
TZOFFSETFROM:+0100
TZOFFSETTO:+0200
TZNAME:CEST
DTSTART:20270328T010000
END:DAYLIGHT
BEGIN:STANDARD
TZOFFSETFROM:+0200
TZOFFSETTO:+0100
TZNAME:CET
DTSTART:20271031T010000
END:STANDARD
END:VTIMEZONE
BEGIN:VEVENT
DTSTART;TZID=Europe/Berlin:20260314T170000
DTEND;TZID=Europe/Berlin:20260315T020000
DTSTAMP:20260421T212359
CREATED:20260311T173847Z
LAST-MODIFIED:20260311T173949Z
UID:2186-1773507600-1773540000@www.salsainbonn.de
SUMMARY:Schnuppertag und Salsa Party im Max7
DESCRIPTION:Schnuppertag – 12 Workshops\, 8 Tänze / Anfänger & Fortgeschrittene\nab 22:00 Salsa Bachata Discofox Kizomba Party auf 3 Ebenen
URL:https://www.salsainbonn.de/event/schnuppertag-und-salsa-party-im-max7/
LOCATION:Tanzschule Max7 Zentrum\, Oxfordstraße 6\, Bonn\, 53111\, Germany
ORGANIZER;CN="Tanzschule Max7":MAILTO:info@max7.de
END:VEVENT
BEGIN:VEVENT
DTSTART;TZID=Europe/Berlin:20260315T180000
DTEND;TZID=Europe/Berlin:20260315T210000
DTSTAMP:20260421T212359
CREATED:20260311T173330Z
LAST-MODIFIED:20260311T173330Z
UID:2184-1773597600-1773608400@www.salsainbonn.de
SUMMARY:Tanzabend im Max7
DESCRIPTION:Am Sonntag\, den 15.03. treffen wir uns ab 18 Uhr im Max7 / Tanzbar\, Oxfordstraße 6 in Bonn. \nTanzabend in der Tanzschule Max7\nWir freuen uns aufs Tanzen mit euch!\n💃🕺
URL:https://www.salsainbonn.de/event/tanzabend-im-max7-7/
LOCATION:Tanzschule Max7 Zentrum\, Oxfordstraße 6\, Bonn\, 53111\, Germany
ORGANIZER;CN="Tanzschule Max7":MAILTO:info@max7.de
END:VEVENT
END:VCALENDAR