BEGIN:VCALENDAR
VERSION:2.0
PRODID:-//Salsa in Bonn e.V. - ECPv6.15.20//NONSGML v1.0//EN
CALSCALE:GREGORIAN
METHOD:PUBLISH
X-ORIGINAL-URL:https://www.salsainbonn.de
X-WR-CALDESC:Veranstaltungen für Salsa in Bonn e.V.
REFRESH-INTERVAL;VALUE=DURATION:PT1H
X-Robots-Tag:noindex
X-PUBLISHED-TTL:PT1H
BEGIN:VTIMEZONE
TZID:Europe/Berlin
BEGIN:DAYLIGHT
TZOFFSETFROM:+0100
TZOFFSETTO:+0200
TZNAME:CEST
DTSTART:20250330T010000
END:DAYLIGHT
BEGIN:STANDARD
TZOFFSETFROM:+0200
TZOFFSETTO:+0100
TZNAME:CET
DTSTART:20251026T010000
END:STANDARD
BEGIN:DAYLIGHT
TZOFFSETFROM:+0100
TZOFFSETTO:+0200
TZNAME:CEST
DTSTART:20260329T010000
END:DAYLIGHT
BEGIN:STANDARD
TZOFFSETFROM:+0200
TZOFFSETTO:+0100
TZNAME:CET
DTSTART:20261025T010000
END:STANDARD
BEGIN:DAYLIGHT
TZOFFSETFROM:+0100
TZOFFSETTO:+0200
TZNAME:CEST
DTSTART:20270328T010000
END:DAYLIGHT
BEGIN:STANDARD
TZOFFSETFROM:+0200
TZOFFSETTO:+0100
TZNAME:CET
DTSTART:20271031T010000
END:STANDARD
END:VTIMEZONE
BEGIN:VEVENT
DTSTART;TZID=Europe/Berlin:20260118T180000
DTEND;TZID=Europe/Berlin:20260118T220000
DTSTAMP:20260422T003459
CREATED:20260114T215233Z
LAST-MODIFIED:20260114T215735Z
UID:2044-1768759200-1768773600@www.salsainbonn.de
SUMMARY:Tanzabend im Max7
DESCRIPTION:Am Sonntag\, den 18.01.\, ab 18 Uhr treffen wir uns wieder im Max7 / Tanzbar\, Oxfordstraße 6 in Bonn. \nTanzabend in der Tanzschule Max7 – wir freuen uns aufs Tanzen mit euch! 💃🕺
URL:https://www.salsainbonn.de/event/tanzabend-im-max7-2/
LOCATION:Tanzschule Max7 Zentrum\, Oxfordstraße 6\, Bonn\, 53111\, Germany
ORGANIZER;CN="Tanzschule Max7":MAILTO:info@max7.de
END:VEVENT
END:VCALENDAR