BEGIN:VCALENDAR
VERSION:2.0
PRODID:-//Salsa in Bonn e.V. - ECPv6.15.20//NONSGML v1.0//EN
CALSCALE:GREGORIAN
METHOD:PUBLISH
X-WR-CALNAME:Salsa in Bonn e.V.
X-ORIGINAL-URL:https://www.salsainbonn.de
X-WR-CALDESC:Veranstaltungen für Salsa in Bonn e.V.
REFRESH-INTERVAL;VALUE=DURATION:PT1H
X-Robots-Tag:noindex
X-PUBLISHED-TTL:PT1H
BEGIN:VTIMEZONE
TZID:Europe/Berlin
BEGIN:DAYLIGHT
TZOFFSETFROM:+0100
TZOFFSETTO:+0200
TZNAME:CEST
DTSTART:20240331T010000
END:DAYLIGHT
BEGIN:STANDARD
TZOFFSETFROM:+0200
TZOFFSETTO:+0100
TZNAME:CET
DTSTART:20241027T010000
END:STANDARD
BEGIN:DAYLIGHT
TZOFFSETFROM:+0100
TZOFFSETTO:+0200
TZNAME:CEST
DTSTART:20250330T010000
END:DAYLIGHT
BEGIN:STANDARD
TZOFFSETFROM:+0200
TZOFFSETTO:+0100
TZNAME:CET
DTSTART:20251026T010000
END:STANDARD
BEGIN:DAYLIGHT
TZOFFSETFROM:+0100
TZOFFSETTO:+0200
TZNAME:CEST
DTSTART:20260329T010000
END:DAYLIGHT
BEGIN:STANDARD
TZOFFSETFROM:+0200
TZOFFSETTO:+0100
TZNAME:CET
DTSTART:20261025T010000
END:STANDARD
END:VTIMEZONE
BEGIN:VEVENT
DTSTART;TZID=Europe/Berlin:20251207T180000
DTEND;TZID=Europe/Berlin:20251207T230000
DTSTAMP:20260422T021304
CREATED:20251027T062533Z
LAST-MODIFIED:20251204T195536Z
UID:1757-1765130400-1765148400@www.salsainbonn.de
SUMMARY:SiB Weihnachtsfeier 2025
DESCRIPTION:Am Sonntag\, den 7. Dezember\, ab 18 Uhr feiern wir unsere Weihnachtsfeier im Café Especial!\n🎅💃 \nFreut euch auf einen festlichen Abend 🎄🕯️ mit Musik 🎶\, Tanz 💃🕺\, leckerem Essen 🫕🌮 und guter Stimmung. 🍷🌟 \n \nWir freuen uns auf einen wunderbaren Abend mit euch! \nEuer Salsa in Bonn e.V.
URL:https://www.salsainbonn.de/event/sib-weihnachtsfeier-2/
LOCATION:CAFE ESPECIAL Bonn\, Vivatsgasse 8\, Bonn\, 53111\, Germany
END:VEVENT
END:VCALENDAR