BEGIN:VCALENDAR
VERSION:2.0
PRODID:-//Salsa in Bonn e.V. - ECPv6.15.20//NONSGML v1.0//EN
CALSCALE:GREGORIAN
METHOD:PUBLISH
X-WR-CALNAME:Salsa in Bonn e.V.
X-ORIGINAL-URL:https://www.salsainbonn.de
X-WR-CALDESC:Veranstaltungen für Salsa in Bonn e.V.
REFRESH-INTERVAL;VALUE=DURATION:PT1H
X-Robots-Tag:noindex
X-PUBLISHED-TTL:PT1H
BEGIN:VTIMEZONE
TZID:Europe/Berlin
BEGIN:DAYLIGHT
TZOFFSETFROM:+0100
TZOFFSETTO:+0200
TZNAME:CEST
DTSTART:20240331T010000
END:DAYLIGHT
BEGIN:STANDARD
TZOFFSETFROM:+0200
TZOFFSETTO:+0100
TZNAME:CET
DTSTART:20241027T010000
END:STANDARD
BEGIN:DAYLIGHT
TZOFFSETFROM:+0100
TZOFFSETTO:+0200
TZNAME:CEST
DTSTART:20250330T010000
END:DAYLIGHT
BEGIN:STANDARD
TZOFFSETFROM:+0200
TZOFFSETTO:+0100
TZNAME:CET
DTSTART:20251026T010000
END:STANDARD
BEGIN:DAYLIGHT
TZOFFSETFROM:+0100
TZOFFSETTO:+0200
TZNAME:CEST
DTSTART:20260329T010000
END:DAYLIGHT
BEGIN:STANDARD
TZOFFSETFROM:+0200
TZOFFSETTO:+0100
TZNAME:CET
DTSTART:20261025T010000
END:STANDARD
END:VTIMEZONE
BEGIN:VEVENT
DTSTART;TZID=Europe/Berlin:20251108T203000
DTEND;TZID=Europe/Berlin:20251109T020000
DTSTAMP:20260422T035737
CREATED:20251013T092956Z
LAST-MODIFIED:20251204T195636Z
UID:1650-1762633800-1762653600@www.salsainbonn.de
SUMMARY:Latin Night
DESCRIPTION:Latin Night im Tanzhaus Bonn\nmit DJ Lokito \nMusikrichtungen: Salsa\, Bachata\, Merengue\, Latin Pop & Reggaeton \nIm Rahmen des Welttanztags 2025 findet am 8. November 2025 ein Bachata-Rekordversuch für den guten Zweck statt. \nAnschließend Latin-Party im Tanzhaus Bonn. \nWeitere Informationen und Tickets \nInfo’s auf Facebook
URL:https://www.salsainbonn.de/event/latin-party/
LOCATION:Tanzhaus Bonn\, Tanzhaus Bonn\, Gartenstraße 102\, Bonn\, 53225\, Germany
END:VEVENT
END:VCALENDAR