BEGIN:VCALENDAR
VERSION:2.0
PRODID:-//Salsa in Bonn e.V. - ECPv6.15.20//NONSGML v1.0//EN
CALSCALE:GREGORIAN
METHOD:PUBLISH
X-WR-CALNAME:Salsa in Bonn e.V.
X-ORIGINAL-URL:https://www.salsainbonn.de
X-WR-CALDESC:Veranstaltungen für Salsa in Bonn e.V.
REFRESH-INTERVAL;VALUE=DURATION:PT1H
X-Robots-Tag:noindex
X-PUBLISHED-TTL:PT1H
BEGIN:VTIMEZONE
TZID:Europe/Berlin
BEGIN:DAYLIGHT
TZOFFSETFROM:+0100
TZOFFSETTO:+0200
TZNAME:CEST
DTSTART:20240331T010000
END:DAYLIGHT
BEGIN:STANDARD
TZOFFSETFROM:+0200
TZOFFSETTO:+0100
TZNAME:CET
DTSTART:20241027T010000
END:STANDARD
BEGIN:DAYLIGHT
TZOFFSETFROM:+0100
TZOFFSETTO:+0200
TZNAME:CEST
DTSTART:20250330T010000
END:DAYLIGHT
BEGIN:STANDARD
TZOFFSETFROM:+0200
TZOFFSETTO:+0100
TZNAME:CET
DTSTART:20251026T010000
END:STANDARD
BEGIN:DAYLIGHT
TZOFFSETFROM:+0100
TZOFFSETTO:+0200
TZNAME:CEST
DTSTART:20260329T010000
END:DAYLIGHT
BEGIN:STANDARD
TZOFFSETFROM:+0200
TZOFFSETTO:+0100
TZNAME:CET
DTSTART:20261025T010000
END:STANDARD
END:VTIMEZONE
BEGIN:VEVENT
DTSTART;TZID=Europe/Berlin:20251102T180000
DTEND;TZID=Europe/Berlin:20251102T230000
DTSTAMP:20260422T035728
CREATED:20251028T135339Z
LAST-MODIFIED:20251204T195848Z
UID:1788-1762106400-1762124400@www.salsainbonn.de
SUMMARY:Tanzen im Café Especial
DESCRIPTION:Letzten Sonntag war wieder richtig viel los – tolle Stimmung\, volle Tanzfläche und jede Menge Spaß! 💃🕺 \nEin großes Dankeschön an alle\, die dabei waren! \nAm Sonntag\, den 2.11.\, ab 18 Uhr geht’s weiter mit Salsa & Bachata im Café Especial\n📍 Vivatsgasse 8\, Bonn-Innenstadt \nDiesmal legt Gast-DJ Rumba K für euch auf – mit abwechslungsreichen Salsa- und Bachata-Rhythmen! 🎧🔥 \nGenießt gute Musik\, entspannte Stimmung und leckeres Essen. 🫕🍹 \nDer Eintritt ist frei und kein Mindestverzehr! \nWir freuen uns auf euch!\nEuer Salsa in Bonn e.V.
URL:https://www.salsainbonn.de/event/tanzen-im-cafe-especial-4/
LOCATION:CAFE ESPECIAL Bonn\, Vivatsgasse 8\, Bonn\, 53111\, Germany
END:VEVENT
END:VCALENDAR