BEGIN:VCALENDAR
VERSION:2.0
PRODID:-//Salsa in Bonn e.V. - ECPv6.15.20//NONSGML v1.0//EN
CALSCALE:GREGORIAN
METHOD:PUBLISH
X-WR-CALNAME:Salsa in Bonn e.V.
X-ORIGINAL-URL:https://www.salsainbonn.de
X-WR-CALDESC:Veranstaltungen für Salsa in Bonn e.V.
REFRESH-INTERVAL;VALUE=DURATION:PT1H
X-Robots-Tag:noindex
X-PUBLISHED-TTL:PT1H
BEGIN:VTIMEZONE
TZID:Europe/Berlin
BEGIN:DAYLIGHT
TZOFFSETFROM:+0100
TZOFFSETTO:+0200
TZNAME:CEST
DTSTART:20240331T010000
END:DAYLIGHT
BEGIN:STANDARD
TZOFFSETFROM:+0200
TZOFFSETTO:+0100
TZNAME:CET
DTSTART:20241027T010000
END:STANDARD
BEGIN:DAYLIGHT
TZOFFSETFROM:+0100
TZOFFSETTO:+0200
TZNAME:CEST
DTSTART:20250330T010000
END:DAYLIGHT
BEGIN:STANDARD
TZOFFSETFROM:+0200
TZOFFSETTO:+0100
TZNAME:CET
DTSTART:20251026T010000
END:STANDARD
BEGIN:DAYLIGHT
TZOFFSETFROM:+0100
TZOFFSETTO:+0200
TZNAME:CEST
DTSTART:20260329T010000
END:DAYLIGHT
BEGIN:STANDARD
TZOFFSETFROM:+0200
TZOFFSETTO:+0100
TZNAME:CET
DTSTART:20261025T010000
END:STANDARD
END:VTIMEZONE
BEGIN:VEVENT
DTSTART;TZID=Europe/Berlin:20251025T180000
DTEND;TZID=Europe/Berlin:20251025T194500
DTSTAMP:20260422T053114
CREATED:20250917T082227Z
LAST-MODIFIED:20251016T222835Z
UID:1549-1761415200-1761421500@www.salsainbonn.de
SUMMARY:W.I.M. – Buena Vista Social Club
DESCRIPTION:– Ausgebucht –\n \nFür weitere Infos und Tickets hier klicken
URL:https://www.salsainbonn.de/event/w-i-m-buena-vista-social-club/
LOCATION:Bundeskunsthalle\, Helmut-Kohl-Allee 4\, Bonn\, 53113\, Germany
END:VEVENT
END:VCALENDAR