BEGIN:VCALENDAR
VERSION:2.0
PRODID:-//Salsa in Bonn e.V. - ECPv6.15.20//NONSGML v1.0//EN
CALSCALE:GREGORIAN
METHOD:PUBLISH
X-ORIGINAL-URL:https://www.salsainbonn.de
X-WR-CALDESC:Veranstaltungen für Salsa in Bonn e.V.
REFRESH-INTERVAL;VALUE=DURATION:PT1H
X-Robots-Tag:noindex
X-PUBLISHED-TTL:PT1H
BEGIN:VTIMEZONE
TZID:Europe/Berlin
BEGIN:DAYLIGHT
TZOFFSETFROM:+0100
TZOFFSETTO:+0200
TZNAME:CEST
DTSTART:20240331T010000
END:DAYLIGHT
BEGIN:STANDARD
TZOFFSETFROM:+0200
TZOFFSETTO:+0100
TZNAME:CET
DTSTART:20241027T010000
END:STANDARD
BEGIN:DAYLIGHT
TZOFFSETFROM:+0100
TZOFFSETTO:+0200
TZNAME:CEST
DTSTART:20250330T010000
END:DAYLIGHT
BEGIN:STANDARD
TZOFFSETFROM:+0200
TZOFFSETTO:+0100
TZNAME:CET
DTSTART:20251026T010000
END:STANDARD
BEGIN:DAYLIGHT
TZOFFSETFROM:+0100
TZOFFSETTO:+0200
TZNAME:CEST
DTSTART:20260329T010000
END:DAYLIGHT
BEGIN:STANDARD
TZOFFSETFROM:+0200
TZOFFSETTO:+0100
TZNAME:CET
DTSTART:20261025T010000
END:STANDARD
END:VTIMEZONE
BEGIN:VEVENT
DTSTART;TZID=Europe/Berlin:20250720T160000
DTEND;TZID=Europe/Berlin:20250720T213000
DTSTAMP:20260422T112215
CREATED:20250524T132547Z
LAST-MODIFIED:20250720T102551Z
UID:589-1753027200-1753047000@www.salsainbonn.de
SUMMARY:SiB-Salsaboot Bonn 2025
DESCRIPTION:Auch dieses Jahr wieder: unsere Salsa-Rheinkreuzfahrt! Sonntag\, 20.07.2025 \n\nSAVE THE DATE! \n17. Salsaboot Bonn\, zum sechsten Mal mit der MS Beethoven am Sonntag\, 20.07.2025 \nTickets gibt es hier \n \nPreise:\nEarly Bird bis 30.04.25: 20 Euro\nVorverkauf: 25 Euro\nTageskasse: 30 Euro\nNur für SiB-Vereinsmitglieder: 10 Euro (egal wann gekauft wird) \nZeitplan:\nEinlass ab 16:00 Uhr\nAbfahrt 16:30 Uhr\nAnkunft 21:30 Uhr \nOrt: MS Beethoven\, Brassertufer\, Anleger Nr. 5\, 53111 Bonn \nProgramm:\n2 Dancefloors\n2 DJs: DJ Lokito & DJ Yossinho\nWorkshops (Salsa cubana/Rueda/Bachata moderna)
URL:https://www.salsainbonn.de/event/salsaboot-bonn-2025/
LOCATION:Brassertufer\, Brassertufer\, Bonn\, 53111\, Germany
END:VEVENT
END:VCALENDAR