BEGIN:VCALENDAR
VERSION:2.0
PRODID:-//Salsa in Bonn e.V. - ECPv6.15.20//NONSGML v1.0//EN
CALSCALE:GREGORIAN
METHOD:PUBLISH
X-WR-CALNAME:Salsa in Bonn e.V.
X-ORIGINAL-URL:https://www.salsainbonn.de
X-WR-CALDESC:Veranstaltungen für Salsa in Bonn e.V.
REFRESH-INTERVAL;VALUE=DURATION:PT1H
X-Robots-Tag:noindex
X-PUBLISHED-TTL:PT1H
BEGIN:VTIMEZONE
TZID:Europe/Berlin
BEGIN:DAYLIGHT
TZOFFSETFROM:+0100
TZOFFSETTO:+0200
TZNAME:CEST
DTSTART:20240331T010000
END:DAYLIGHT
BEGIN:STANDARD
TZOFFSETFROM:+0200
TZOFFSETTO:+0100
TZNAME:CET
DTSTART:20241027T010000
END:STANDARD
BEGIN:DAYLIGHT
TZOFFSETFROM:+0100
TZOFFSETTO:+0200
TZNAME:CEST
DTSTART:20250330T010000
END:DAYLIGHT
BEGIN:STANDARD
TZOFFSETFROM:+0200
TZOFFSETTO:+0100
TZNAME:CET
DTSTART:20251026T010000
END:STANDARD
BEGIN:DAYLIGHT
TZOFFSETFROM:+0100
TZOFFSETTO:+0200
TZNAME:CEST
DTSTART:20260329T010000
END:DAYLIGHT
BEGIN:STANDARD
TZOFFSETFROM:+0200
TZOFFSETTO:+0100
TZNAME:CET
DTSTART:20261025T010000
END:STANDARD
END:VTIMEZONE
BEGIN:VEVENT
DTSTART;TZID=Europe/Berlin:20250706T113000
DTEND;TZID=Europe/Berlin:20250706T220000
DTSTAMP:20260424T104830
CREATED:20250610T204942Z
LAST-MODIFIED:20250620T002116Z
UID:1101-1751801400-1751839200@www.salsainbonn.de
SUMMARY:Salsa Boot Köln
DESCRIPTION:Salsa Boot Köln – Der Klassiker\, nur einmal im Jahr ! und immer wieder ausverkauft … \nMS Rheinvision\, Frankenwerft Köln\, Altstadt \nBis 30.Juni 2025:\nPartyticket 35 Euro plus Vvk.-Gebühr\nFullpass 70 Euro plus VvK.-Gebühr\nFullpass Partnerticket 130 Euro plus Vvk.-Gebühr \nAb 1. Juli 2025\nPartyticket 40 Euro plus Vvk.-Gebühr\nFullpass 80 Euro plus VvK.-Gebühr\nFullpass Partnerticket 140 Euro plus Vvk.-Gebühr \n\nTickets Online:\nhttps://www.eventbrite.de/e/salsa-boot-koln-672025-tickets-1217888199389?aff=erelexpmlt\n\nTickets offline (ohne Vorverkaufsgebühr):\nSalsa im Herbrand´s\nSalsa Open Air Köln\nSalsa Lutherkirche\nCoco 0221 – 423 660 63\nYoyo 0151 – 6450 8237\n\n——————————————-\nProgramm:\n11.30 Uhr: Einlass Fullpass Workshops\n(AmV.- Anfänger mit Vorkenntnissen / M – Mittelstufe / F – Fortgeschrittene)\nWährend der Workshops bleibt das Schiff vor der Kölner Altstadt liegen.\n——————–\n12.00 – 13.00 Uhr:\nRaum 1: Salsa Puerto Rican (AmV.-M) – Natalia und Zohair\nRaum 2: Bachata (M-F) – Bhavin und Soonruta\n——————–\n13.00 – 14.00 Uhr:\nRaum 1: Salsa Puerto Rican (M-F) – Natalia und Zohair\nRaum 2: Bachata (AmV-M) – Bhavin und Soonrutha\n——————–\n14.00 – 15.00 Uhr:\nRaum 1: Salsa Puerto Rican (M-F) – Olga und Udo\nRaum 2: Bachata Sensual (M-F) – Evelyn und Alejandro\n——————–\n15.00 – 16.00 Uhr:\nRaum 1: Salsa Puerto Rican (AmV-M) – Olga und Udo\nRaum 2: Bachata Sensual (M-F) – Evelyn und Alejandro\n——————–\n16.00 Einlass Partyticket / Bordfest\n17.00 – 21.00 Uhr Party/Rundfahrt\nGrosses Aussendeck: Salsa All Styles/Bachata Floor\nKleines Innendeck Salsa All Styles\nNeu: Grosses Innendeck Bachata Floor\nUnsere Dj´s für Salsa und Bachata:\n\nDj Diego\, Dj Thomas\, Dj Jonas\, Dj Lobo\, Dj Alejandro\, Dj Yoyo \n21.00 – 22.00 Uhr Party / Bordfest
URL:https://www.salsainbonn.de/event/salsa-boot-koeln/
LOCATION:Frankenwerft Köln\, Frankenwerft\, Köln\, 50667\, Germany
END:VEVENT
END:VCALENDAR